BEGIN:VCALENDAR
VERSION:2.0
PRODID:-//VT MORGAN HORSE ASSOCIATION - ECPv6.15.20//NONSGML v1.0//EN
CALSCALE:GREGORIAN
METHOD:PUBLISH
X-WR-CALNAME:VT MORGAN HORSE ASSOCIATION
X-ORIGINAL-URL:https://vtmorganhorse.org
X-WR-CALDESC:Events for VT MORGAN HORSE ASSOCIATION
REFRESH-INTERVAL;VALUE=DURATION:PT1H
X-Robots-Tag:noindex
X-PUBLISHED-TTL:PT1H
BEGIN:VTIMEZONE
TZID:America/New_York
BEGIN:DAYLIGHT
TZOFFSETFROM:-0500
TZOFFSETTO:-0400
TZNAME:EDT
DTSTART:20250309T070000
END:DAYLIGHT
BEGIN:STANDARD
TZOFFSETFROM:-0400
TZOFFSETTO:-0500
TZNAME:EST
DTSTART:20251102T060000
END:STANDARD
BEGIN:DAYLIGHT
TZOFFSETFROM:-0500
TZOFFSETTO:-0400
TZNAME:EDT
DTSTART:20260308T070000
END:DAYLIGHT
BEGIN:STANDARD
TZOFFSETFROM:-0400
TZOFFSETTO:-0500
TZNAME:EST
DTSTART:20261101T060000
END:STANDARD
BEGIN:DAYLIGHT
TZOFFSETFROM:-0500
TZOFFSETTO:-0400
TZNAME:EDT
DTSTART:20270314T070000
END:DAYLIGHT
BEGIN:STANDARD
TZOFFSETFROM:-0400
TZOFFSETTO:-0500
TZNAME:EST
DTSTART:20271107T060000
END:STANDARD
END:VTIMEZONE
BEGIN:VEVENT
DTSTART;TZID=America/New_York:20260919T080000
DTEND;TZID=America/New_York:20260920T170000
DTSTAMP:20260424T205256
CREATED:20260325T193943Z
LAST-MODIFIED:20260325T193943Z
UID:2306-1789804800-1789923600@vtmorganhorse.org
SUMMARY:Mid State Riding & Driving Club Driving Clinic with Francois Bergeron
DESCRIPTION:Driving Clinic with Francois Bergeron
URL:https://vtmorganhorse.org/event/mid-state-riding-driving-club-driving-clinic-with-francois-bergeron/
LOCATION:Mid-State Riding Club\, Off SR 12\, Randolph\, VT\, 05060\, United States
ORGANIZER;CN="Reva Seybolt":MAILTO:revabseybolt@att.net
END:VEVENT
END:VCALENDAR