BEGIN:VCALENDAR
VERSION:2.0
PRODID:-//VT MORGAN HORSE ASSOCIATION - ECPv6.15.20//NONSGML v1.0//EN
CALSCALE:GREGORIAN
METHOD:PUBLISH
X-WR-CALNAME:VT MORGAN HORSE ASSOCIATION
X-ORIGINAL-URL:https://vtmorganhorse.org
X-WR-CALDESC:Events for VT MORGAN HORSE ASSOCIATION
REFRESH-INTERVAL;VALUE=DURATION:PT1H
X-Robots-Tag:noindex
X-PUBLISHED-TTL:PT1H
BEGIN:VTIMEZONE
TZID:America/New_York
BEGIN:DAYLIGHT
TZOFFSETFROM:-0500
TZOFFSETTO:-0400
TZNAME:EDT
DTSTART:20250309T070000
END:DAYLIGHT
BEGIN:STANDARD
TZOFFSETFROM:-0400
TZOFFSETTO:-0500
TZNAME:EST
DTSTART:20251102T060000
END:STANDARD
BEGIN:DAYLIGHT
TZOFFSETFROM:-0500
TZOFFSETTO:-0400
TZNAME:EDT
DTSTART:20260308T070000
END:DAYLIGHT
BEGIN:STANDARD
TZOFFSETFROM:-0400
TZOFFSETTO:-0500
TZNAME:EST
DTSTART:20261101T060000
END:STANDARD
BEGIN:DAYLIGHT
TZOFFSETFROM:-0500
TZOFFSETTO:-0400
TZNAME:EDT
DTSTART:20270314T070000
END:DAYLIGHT
BEGIN:STANDARD
TZOFFSETFROM:-0400
TZOFFSETTO:-0500
TZNAME:EST
DTSTART:20271107T060000
END:STANDARD
END:VTIMEZONE
BEGIN:VEVENT
DTSTART;TZID=America/New_York:20260426T110000
DTEND;TZID=America/New_York:20260426T150000
DTSTAMP:20260423T083525
CREATED:20240428T183856Z
LAST-MODIFIED:20260325T191433Z
UID:1719-1777201200-1777215600@vtmorganhorse.org
SUMMARY:VMHA Spring Potluck and Open Competition Awards
DESCRIPTION:Board Meeting 11am to 12pm. Potluck and Open Competition Awards to follow! \nWill include 2025 Open Competition Awards!! \nTo be held in GMHA Youth Center
URL:https://vtmorganhorse.org/event/vmha-spring-potluck-and-open-competition-awards/
LOCATION:GMHA\, 5491 South Road\, S. Woodstock\, 05071\, United States
CATEGORIES:Awards,board meeting,Open Competition
ORGANIZER;CN="Norma Katz":MAILTO:normakatz@yahoo.com
END:VEVENT
BEGIN:VEVENT
DTSTART;VALUE=DATE:20260516
DTEND;VALUE=DATE:20260518
DTSTAMP:20260423T083525
CREATED:20240428T185041Z
LAST-MODIFIED:20260325T193159Z
UID:1726-1778889600-1779062399@vtmorganhorse.org
SUMMARY:Mid-State Riding Club Carriage Driving Clinic with Hannah Polson
DESCRIPTION:Carriage Driving Clinic with Hannah Polson\, ADS R Judge
URL:https://vtmorganhorse.org/event/vmha-mid-state-riding-club-carriage-driving-clinic-with-hannah-polson/
LOCATION:Mid-State Riding Club\, Off SR 12\, Randolph\, VT\, 05060\, United States
CATEGORIES:Carriage,Clinic
ORGANIZER;CN="Reva Seybolt":MAILTO:revabseybolt@att.net
END:VEVENT
BEGIN:VEVENT
DTSTART;VALUE=DATE:20260523
DTEND;VALUE=DATE:20260525
DTSTAMP:20260423T083525
CREATED:20250302T204253Z
LAST-MODIFIED:20260325T192351Z
UID:1999-1779494400-1779667199@vtmorganhorse.org
SUMMARY:Heart’s Delight Spring Premier Horse Open Horse Show
DESCRIPTION:Look for our VMHA booth!
URL:https://vtmorganhorse.org/event/hearts-delight-spring-premier-horse-open-horse-show/
LOCATION:Clinton County Fairgrounds\, 84 Fairgrounds Road\, Morrisonville\, NY\, 12962\, United States
CATEGORIES:Competition,Horse Show,Open Competition
ORGANIZER;CN="Karen Lassell":MAILTO:lassell@whminer.com
END:VEVENT
BEGIN:VEVENT
DTSTART;VALUE=DATE:20260613
DTEND;VALUE=DATE:20260615
DTSTAMP:20260423T083525
CREATED:20240428T190548Z
LAST-MODIFIED:20260325T193349Z
UID:1735-1781308800-1781481599@vtmorganhorse.org
SUMMARY:Mid-State Riding Club Carriage Driving Clinic with Hannah Polson
DESCRIPTION:Carriage Driving Clinic with Hannah Polson
URL:https://vtmorganhorse.org/event/vmha-mid-state-riding-club-carriage-driving-clinic-with-francois-bergeron/
LOCATION:Mid-State Riding Club\, Off SR 12\, Randolph\, VT\, 05060\, United States
CATEGORIES:Carriage,Clinic
ORGANIZER;CN="Reva Seybolt":MAILTO:revabseybolt@att.net
END:VEVENT
BEGIN:VEVENT
DTSTART;TZID=America/New_York:20260614T080000
DTEND;TZID=America/New_York:20260614T170000
DTSTAMP:20260423T083525
CREATED:20250302T200009Z
LAST-MODIFIED:20260325T193453Z
UID:1973-1781424000-1781456400@vtmorganhorse.org
SUMMARY:UVM Educational and Community Service Day
DESCRIPTION:UVM Youth Judging and Community Service Day
URL:https://vtmorganhorse.org/event/uvm-youth-judging-and-community-service-day/
LOCATION:UVM Morgan Horse Farm\, 74 Battell Drive\, Weybridge\, VT\, 05753\, United States
CATEGORIES:Clinic,Educational Exhibits,Judging,Pot Luck
ORGANIZER;CN="Amanda Ryan":MAILTO:amandaspringryan@gmail.com
END:VEVENT
BEGIN:VEVENT
DTSTART;VALUE=DATE:20260627
DTEND;VALUE=DATE:20260629
DTSTAMP:20260423T083525
CREATED:20240428T191815Z
LAST-MODIFIED:20260327T175422Z
UID:1743-1782518400-1782691199@vtmorganhorse.org
SUMMARY:VMHA Clinic with Denny Emerson
DESCRIPTION:Flatwork and Jumping Clinic with Olympian Denny Emerson \n  \n\nFriday the 26th Volunteer site preparation day & potluck lunch\nSaturday the 27th Flatwork and jumping clinic\nSun the 28th Optional day for clinic continuation
URL:https://vtmorganhorse.org/event/vmha-presents-eventing-with-denny-emerson/
LOCATION:Tamarack Hill Farm\, 166 Brook Road\, Stratford\, 05072\, United States
CATEGORIES:Clinic,Eventing
ORGANIZER;CN="Jamie McGuire":MAILTO:maguireequine@gmail.com
END:VEVENT
BEGIN:VEVENT
DTSTART;VALUE=DATE:20260705
DTEND;VALUE=DATE:20260706
DTSTAMP:20260423T083525
CREATED:20240428T191315Z
LAST-MODIFIED:20260327T175546Z
UID:1741-1783209600-1783295999@vtmorganhorse.org
SUMMARY:Mid-State Riding Club Driving Fun Cones Show
DESCRIPTION:Mid-State Riding Club Carriage Driving Club Fun Cones Show
URL:https://vtmorganhorse.org/event/vmha-mid-state-riding-club-carriage-driving-clinic-with-francois-bergeron-2/
LOCATION:Mid-State Riding Club\, Off SR 12\, Randolph\, VT\, 05060\, United States
CATEGORIES:Carriage,Clinic
ORGANIZER;CN="Reva Seybolt":MAILTO:revabseybolt@att.net
END:VEVENT
BEGIN:VEVENT
DTSTART;VALUE=DATE:20260720
DTEND;VALUE=DATE:20260726
DTSTAMP:20260423T083525
CREATED:20250302T204732Z
LAST-MODIFIED:20260325T191809Z
UID:2005-1784505600-1785023999@vtmorganhorse.org
SUMMARY:New England Morgan Horse Show
DESCRIPTION:New England Morgan Horse Show \nStop by the VMHA Booth under the tent!
URL:https://vtmorganhorse.org/event/new-england-morgan-horse-show/
LOCATION:Three County Fairgrounds\, 54 Fair Street\, Northampton\, MA\, 01060\, United States
CATEGORIES:Competition,Dressage,Educational Exhibits,Horse Show
END:VEVENT
BEGIN:VEVENT
DTSTART;TZID=America/New_York:20260725T080000
DTEND;TZID=America/New_York:20260725T170000
DTSTAMP:20260423T083525
CREATED:20240428T192140Z
LAST-MODIFIED:20260325T193610Z
UID:1748-1784966400-1784998800@vtmorganhorse.org
SUMMARY:Mid-State Riding Club Carriage Driving Clinic with Robin Groves
DESCRIPTION:Carriage Driving Clinic with Robin Groves
URL:https://vtmorganhorse.org/event/vmha-mid-state-riding-club-carriage-driving-clinic-with-hannah-polson-3/
LOCATION:Mid-State Riding Club\, Off SR 12\, Randolph\, VT\, 05060\, United States
CATEGORIES:Carriage,Clinic
ORGANIZER;CN="Reva Seybolt":MAILTO:revabseybolt@att.net
END:VEVENT
BEGIN:VEVENT
DTSTART;VALUE=DATE:20260815
DTEND;VALUE=DATE:20260817
DTSTAMP:20260423T083525
CREATED:20240428T192030Z
LAST-MODIFIED:20260325T193711Z
UID:1746-1786752000-1786924799@vtmorganhorse.org
SUMMARY:Mid-State Riding Club Carriage Driving Clinic with Hannah Polson
DESCRIPTION:Carriage Driving Clinic with Hannah Polson\, ADS R Judge
URL:https://vtmorganhorse.org/event/vmha-mid-state-riding-club-carriage-driving-clinic-with-hannah-polson-2/
LOCATION:Mid-State Riding Club\, Off SR 12\, Randolph\, VT\, 05060\, United States
CATEGORIES:Carriage,Clinic
ORGANIZER;CN="Reva Seybolt":MAILTO:revabseybolt@att.net
END:VEVENT
BEGIN:VEVENT
DTSTART;VALUE=DATE:20260828
DTEND;VALUE=DATE:20260907
DTSTAMP:20260423T083525
CREATED:20250302T205203Z
LAST-MODIFIED:20260325T191725Z
UID:2011-1787875200-1788739199@vtmorganhorse.org
SUMMARY:Champlain Valley Fair
DESCRIPTION:Champlain Valley Fair \nStop by and visit the Morgans and the VMHA booth!
URL:https://vtmorganhorse.org/event/champlain-valley-fair/
LOCATION:Champlain Valley Fairgrounds\, 105 Pearl Street\, Essex Junction\, VT\, 05452\, United States
CATEGORIES:Demonstration,Educational Exhibits
END:VEVENT
BEGIN:VEVENT
DTSTART;TZID=America/New_York:20260919T080000
DTEND;TZID=America/New_York:20260920T170000
DTSTAMP:20260423T083525
CREATED:20260325T193943Z
LAST-MODIFIED:20260325T193943Z
UID:2306-1789804800-1789923600@vtmorganhorse.org
SUMMARY:Mid State Riding & Driving Club Driving Clinic with Francois Bergeron
DESCRIPTION:Driving Clinic with Francois Bergeron
URL:https://vtmorganhorse.org/event/mid-state-riding-driving-club-driving-clinic-with-francois-bergeron/
LOCATION:Mid-State Riding Club\, Off SR 12\, Randolph\, VT\, 05060\, United States
ORGANIZER;CN="Reva Seybolt":MAILTO:revabseybolt@att.net
END:VEVENT
BEGIN:VEVENT
DTSTART;VALUE=DATE:20260926
DTEND;VALUE=DATE:20260928
DTSTAMP:20260423T083525
CREATED:20250302T201510Z
LAST-MODIFIED:20260325T191633Z
UID:1979-1790380800-1790553599@vtmorganhorse.org
SUMMARY:VT Morgan Heritage Days
DESCRIPTION:VT Morgan Heritage Days Horse Show and Youth of the Year Contest
URL:https://vtmorganhorse.org/event/vt-morgan-heritage-days/
LOCATION:Addison County Fairgrounds\, 1790 Field Days Road\, New Haven\, 05491\, United States
CATEGORIES:Competition,Contest,Dinner,Dressage,Educational Exhibits,Horse Show,Open Competition
ORGANIZER;CN="Jamie McGuire":MAILTO:maguireequine@gmail.com
END:VEVENT
BEGIN:VEVENT
DTSTART;TZID=America/New_York:20261011T080000
DTEND;TZID=America/New_York:20261011T170000
DTSTAMP:20260423T083525
CREATED:20260327T175743Z
LAST-MODIFIED:20260327T175749Z
UID:2355-1791705600-1791738000@vtmorganhorse.org
SUMMARY:Mid-State Riding Club Fun Continuous Drive
DESCRIPTION:Mid-State Riding Club Fun Continuous Drive
URL:https://vtmorganhorse.org/event/mid-state-riding-club-fun-continuous-drive/
LOCATION:Mid-State Riding Club\, Off SR 12\, Randolph\, VT\, 05060\, United States
ORGANIZER;CN="Reva Seybolt":MAILTO:revabseybolt@att.net
END:VEVENT
BEGIN:VEVENT
DTSTART;TZID=America/New_York:20261025T110000
DTEND;TZID=America/New_York:20261025T150000
DTSTAMP:20260423T083525
CREATED:20240428T192232Z
LAST-MODIFIED:20260325T191305Z
UID:1750-1792926000-1792940400@vtmorganhorse.org
SUMMARY:VMHA Annual Meeting and Luncheon
DESCRIPTION:
URL:https://vtmorganhorse.org/event/vmha-annual-meeting-and-luncheon/
LOCATION:TBD
CATEGORIES:Annual Meeting,Awards,Dinner
END:VEVENT
BEGIN:VEVENT
DTSTART;VALUE=DATE:20261112
DTEND;VALUE=DATE:20261116
DTSTAMP:20260423T083525
CREATED:20190301T191932Z
LAST-MODIFIED:20260325T191518Z
UID:612-1794441600-1794787199@vtmorganhorse.org
SUMMARY:Equine Affaire
DESCRIPTION:Big E\, West Springfield\, MA
URL:https://vtmorganhorse.org/event/equine-affaire/
LOCATION:Eastern States Exposition\, 1305 Memorial Avenue\, West Springfield\, MA\, 01089\, United States
CATEGORIES:Clinic,Demonstration,Educational Exhibits
ORGANIZER;CN="Brittany Collins":MAILTO:bbcalh@yahoo.com
END:VEVENT
END:VCALENDAR