BEGIN:VCALENDAR
VERSION:2.0
PRODID:-//VT MORGAN HORSE ASSOCIATION - ECPv6.15.20//NONSGML v1.0//EN
CALSCALE:GREGORIAN
METHOD:PUBLISH
X-WR-CALNAME:VT MORGAN HORSE ASSOCIATION
X-ORIGINAL-URL:https://vtmorganhorse.org
X-WR-CALDESC:Events for VT MORGAN HORSE ASSOCIATION
REFRESH-INTERVAL;VALUE=DURATION:PT1H
X-Robots-Tag:noindex
X-PUBLISHED-TTL:PT1H
BEGIN:VTIMEZONE
TZID:America/New_York
BEGIN:DAYLIGHT
TZOFFSETFROM:-0500
TZOFFSETTO:-0400
TZNAME:EDT
DTSTART:20250309T070000
END:DAYLIGHT
BEGIN:STANDARD
TZOFFSETFROM:-0400
TZOFFSETTO:-0500
TZNAME:EST
DTSTART:20251102T060000
END:STANDARD
BEGIN:DAYLIGHT
TZOFFSETFROM:-0500
TZOFFSETTO:-0400
TZNAME:EDT
DTSTART:20260308T070000
END:DAYLIGHT
BEGIN:STANDARD
TZOFFSETFROM:-0400
TZOFFSETTO:-0500
TZNAME:EST
DTSTART:20261101T060000
END:STANDARD
BEGIN:DAYLIGHT
TZOFFSETFROM:-0500
TZOFFSETTO:-0400
TZNAME:EDT
DTSTART:20270314T070000
END:DAYLIGHT
BEGIN:STANDARD
TZOFFSETFROM:-0400
TZOFFSETTO:-0500
TZNAME:EST
DTSTART:20271107T060000
END:STANDARD
END:VTIMEZONE
BEGIN:VEVENT
DTSTART;VALUE=DATE:20260926
DTEND;VALUE=DATE:20260928
DTSTAMP:20260424T211944
CREATED:20250302T201510Z
LAST-MODIFIED:20260325T191633Z
UID:1979-1790380800-1790553599@vtmorganhorse.org
SUMMARY:VT Morgan Heritage Days
DESCRIPTION:VT Morgan Heritage Days Horse Show and Youth of the Year Contest
URL:https://vtmorganhorse.org/event/vt-morgan-heritage-days/
LOCATION:Addison County Fairgrounds\, 1790 Field Days Road\, New Haven\, 05491\, United States
CATEGORIES:Competition,Contest,Dinner,Dressage,Educational Exhibits,Horse Show,Open Competition
ORGANIZER;CN="Jamie McGuire":MAILTO:maguireequine@gmail.com
END:VEVENT
END:VCALENDAR